Workbook
Name TABLE_1: #REF!
Name TABLE_1: #REF!
Name TABLE_1: #REF!

Sheet Orçamento Sintético
A3: ESTADO DO PARÁ
A4: PREFEITURA MUNICIPAL DE TUCURUÍ
A5: SECRETARIA MUNICIPAL DE OBRAS, SERVIÇOS URBANOS E HABITAÇÃO
A7: PLANILHA DE QUANTITATIVOS E PREÇOS
A9: EVENTUAL E FUTURA CONTRATAÇÃO DE EMPRESA PARA EXECUÇÃO DE SERVIÇOS DE ENGENHARIA DE NATUREZA FREQUENTE, INCLUSO MATERIAL E MÃO-DE-OBRA, RELATIVOS À MANUTENÇÃO PREVENTIVA OU CORRETIVA, CONSERVAÇÃO E PEQUENOS REPAROS, EM PRÉDIOS E ESPAÇOS PÚBLICOS DO PODER EXECUTIVO DO MUNICÍPIO DE TUCURUÍ-PA - LOTE 01 ( SECRETARIA DE EDUCAÇÃO)
A12: Sinapi Janeiro/2021 e Sedop SETEMBRO/2020
A13: ENCARGOS SOCIAIS DESONERADOS: 89,42%(HORA) 49,63%(MÊS)
A14: Item | B14: Descrição | C14: Und | D14: Quant. | E14: Valor Unit | F14: Valor Unit com BDI | G14: Total
A15: 1 | H15: 1.2882
A16: 1.1 | B16: BARRACAO DE MADEIRA/ALMOXARIFADO | C16: m² | D16: =20*4 -> 80 | E16: =[1]GONÇALVES!G14 -> 246.34 | F16: =E16*$H$15 -> 317.34 | G16: =D16*F16 -> 25387.2
A17: 1.2 | B17: CAPINA E LIMPEZA MANUAL DE TERRENO | C17: m² | D17: 2000 | E17: =[1]GONÇALVES!G15 -> 1.19 | F17: =E17*$H$15 -> 1.53 | G17: =D17*F17 -> 3060
A18: 1.5 | B18: LOCACAO CONVENCIONAL DE OBRA, UTILIZANDO GABARITO DE TÁBUAS CORRIDAS PONTALETADAS A CADA 2,00M - 2 UTILIZAÇÕES. AF_10/2018 | C18: M | D18: 1000 | E18: =[1]GONÇALVES!G16 -> 41.96 | F18: =E18*$H$15 -> 54.05 | G18: =D18*F18 -> 54050
A19: 1.6 | B19: PLACA DE OBRA EM LONA COM PLOTAGEM DE GRAFICA | C19: m² | D19: =2.5*1.5*15 -> 56.25 | E19: =[1]GONÇALVES!G17 -> 161.09 | F19: =E19*$H$15 -> 207.52 | G19: =D19*F19 -> 11673
A20: 1.7 | B20: TAPUME COM TELHA METÁLICA. AF_05/2018 | C20: m² | D20: 1500 | E20: =[1]GONÇALVES!G18 -> 95.1 | F20: =E20*$H$15 -> 122.51 | G20: =D20*F20 -> 183765
A21: Total item 1 | G21: =SUM(G16:G20) -> 277935.2
A22: 2
A23: 2.1 | B23: APICOAMENTO MANUAL DE SUPERFICIE DE CONCRETO | C23: m² | D23: 2000 | E23: =[1]GONÇALVES!G21 -> 5.98 | F23: =E23*$H$15 -> 7.7 | G23: =D23*F23 -> 15400
A24: 2.2 | B24: DEMOLIGAO DA ESTRUTURA EM MADEIRA DA COBERTURA | C24: m² | D24: 4000 | E24: =[1]GONÇALVES!G22 -> 5.97 | F24: =E24*$H$15 -> 7.69 | G24: =D24*F24 -> 30760
A25: 2.3 | B25: DEMOLIÇÃO DE ALVENARIA DE BLOCO FURADO, DE FORMA MANUAL, SEM REAPROVEITAMENTO. AF_12/2017 | C25: m³ | D25: 150 | E25: =[1]GONÇALVES!G23 -> 38.85 | F25: =E25*$H$15 -> 50.05 | G25: =D25*F25 -> 7507.5
A26: 2.4 | B26: DEMOLIÇÃO DE ARGAMASSAS, DE FORMA MANUAL, SEM REAPROVEITAMENTO. AF_12/2017 | C26: m² | D26: 2000 | E26: =[1]GONÇALVES!G24 -> 2.27 | F26: =E26*$H$15 -> 2.92 | G26: =D26*F26 -> 5840
A27: 2.5 | B27: DEMOLIÇÃO DE PILARES E VIGAS EM CONCRETO ARMADO, DE FORMA MANUAL, SEM REAPROVEITAMENTO. AF_12/2017 | C27: m³ | D27: 30 | E27: =[1]GONÇALVES!G25 -> 412.31 | F27: =E27*$H$15 -> 531.14 | G27: =D27*F27 -> 15934.2
A28: 2.6 | B28: DEMOLIÇÃO DE REVESTIMENTO CERÂMICO, DE FORMA MANUAL, SEM REAPROVEITAMENTO. AF_12/2017 | C28: m² | D28: 1500 | E28: =[1]GONÇALVES!G26 -> 15.82 | F28: =E28*$H$15 -> 20.38 | G28: =D28*F28 -> 30570
A29: 2.7 | B29: DEMOLIÇÃO DE RODAPÉ CERÂMICO, DE FORMA MANUAL, SEM REAPROVEITAMENTO. AF_12/2017 | C29: M | D29: 1000 | E29: =[1]GONÇALVES!G27 -> 1.81 | F29: =E29*$H$15 -> 2.33 | G29: =D29*F29 -> 2330
A30: 2.8 | B30: RECOLOCACAO DE TELHAS CERAMICAS TIPO FRANCESA, CONSIDERANDO REAPROVEITAMENTO DE MATERIAL | C30: m² | D30: =D24 -> 4000 | E30: =[1]GONÇALVES!G28 -> 10.67 | F30: =E30*$H$15 -> 13.75 | G30: =D30*F30 -> 55000
A31: 2.9 | B31: REMOÇÃO DE JANELAS, DE FORMA MANUAL, SEM REAPROVEITAMENTO. AF_12/2017 | C31: m² | D31: 300 | E31: =[1]GONÇALVES!G29 -> 21.9 | F31: =E31*$H$15 -> 28.21 | G31: =D31*F31 -> 8463
A32: 2.10 | B32: REMOÇÃO DE PORTAS, DE FORMA MANUAL, SEM REAPROVEITAMENTO. AF_12/2017 | C32: m² | D32: 500 | E32: =[1]GONÇALVES!G30 -> 6.29 | F32: =E32*$H$15 -> 8.1 | G32: =D32*F32 -> 4050
A33: 2.11 | B33: REMOÇÃO DE TELHAS, DE FIBROCIMENTO, METÁLICA E CERÂMICA, DE FORMA MANUAL, SEM REAPROVEITAMENTO. AF_12/2017 | C33: m² | D33: 3000 | E33: =[1]GONÇALVES!G31 -> 2.36 | F33: =E33*$H$15 -> 3.04 | G33: =D33*F33 -> 9120
A34: 2.12 | B34: RETIRADA DE PINTURA (C/ ESCOVA DE AGO) | C34: m² | D34: 15000 | E34: =[1]GONÇALVES!G32 -> 4.51 | F34: =E34*$H$15 -> 5.81 | G34: =D34*F34 -> 87150
A35: 2.13 | B35: RETIRADA DE ENTULHO - MANUALMENTE (INCLUINDO CAIXA COLETORA) | C35: m³ | D35: 150 | E35: =[1]GONÇALVES!G33 -> 89.65 | F35: =E35*$H$15 -> 115.49 | G35: =D35*F35 -> 17323.5
A36: 2.14 | B36: RETIRADA DE ENTULHO C/ EQUIPAMENTO DISTANCIA ATE 5K | C36: m³ | D36: 800 | E36: =[1]GONÇALVES!G34 -> 22.18 | F36: =E36*$H$15 -> 28.57 | G36: =D36*F36 -> 22856
A37: 2.15 | B37: RETIRADA DE FORRO EM PVC, INCL. BARROTEAMENTO | C37: m² | D37: 2000 | E37: =[1]GONÇALVES!G35 -> 4.99 | F37: =E37*$H$15 -> 6.43 | G37: =D37*F37 -> 12860
A38: 2.16 | B38: RETIRADA DE LOUGA SANITARIA | C38: UN | D38: 80 | E38: =[1]GONÇALVES!G36 -> 33.39 | F38: =E38*$H$15 -> 43.01 | G38: =D38*F38 -> 3440.8
A39: 2.17 | B39: RETIRADA DE LUMINARIAS | C39: UN | D39: 450 | E39: =[1]GONÇALVES!G37 -> 13.48 | F39: =E39*$H$15 -> 17.36 | G39: =D39*F39 -> 7812
A40: 2.18 | B40: RETIRADA DE PISO CERAMICO, INCLUSIVE CAMADA REGULARIZADORA | C40: m² | D40: 4000 | E40: =[1]GONÇALVES!G38 -> 6.7 | F40: =E40*$H$15 -> 8.63 | G40: =D40*F40 -> 34520
A41: 2.19 | B41: RETIRADA DE SOLEIRA E PEITORIL | C41: m² | D41: 250 | E41: =[1]GONÇALVES!G39 -> 14.85 | F41: =E41*$H$15 -> 19.13 | G41: =D41*F41 -> 4782.5
A42: 2.20 | B42: RETIRADA DE TELHAS DE BARRO | C42: m² | D42: 3000 | E42: =[1]GONÇALVES!G40 -> 8.39 | F42: =E42*$H$15 -> 10.81 | G42: =D42*F42 -> 32430
... A44: 2.22 | B44: REVISAO DE PONTO DE ESGOTO | C44: Pt | D44: 600 | E44: =[1]GONÇALVES!G42 -> 121.65 | F44: =E44*$H$15 -> 156.71 | G44: =D44*F44 -> 94026
A45: Total item 2 | G45: =SUM(G23:G44) -> 584105.5
A46: 3
A47: 3.1 | B47: ESCAVAÇÃO MANUAL DE VALA COM PROFUNDIDADE MENOR OU IGUAL A 1,30 M. AF_03/2016 | C47: m³ | D47: 150 | E47: =[1]GONÇALVES!G45 -> 59.08 | F47: =E47*$H$15 -> 76.11 | G47: =D47*F47 -> 11416.5
...

Sheet Orçamento PARA 2ª CONTRATAÇÃO
A3: ESTADO DO PARÁ
A4: PREFEITURA MUNICIPAL DE TUCURUÍ
A5: SECRETARIA MUNICIPAL DE OBRAS, SERVIÇOS URBANOS E HABITAÇÃO
A7: PLANILHA DE QUANTITATIVOS E PREÇOS
A9: EVENTUAL E FUTURA CONTRATAÇÃO DE EMPRESA PARA EXECUÇÃO DE SERVIÇOS DE ENGENHARIA DE NATUREZA FREQUENTE, INCLUSO MATERIAL E MÃO-DE-OBRA, RELATIVOS À MANUTENÇÃO PREVENTIVA OU CORRETIVA, CONSERVAÇÃO E PEQUENOS REPAROS, EM PRÉDIOS E ESPAÇOS PÚBLICOS DO PODER EXECUTIVO DO MUNICÍPIO DE TUCURUÍ-PA - LOTE 01 ( SECRETARIA DE EDUCAÇÃO)
A12: Sinapi Janeiro/2021 e Sedop SETEMBRO/2020
A13: ENCARGOS SOCIAIS DESONERADOS: 89,42%(HORA) 49,63%(MÊS)
A14: Item | B14: Descrição | C14: Und | D14: Quant. | E14: Quant. | F14: Valor Unit | G14: Valor Unit com BDI | H14: Total
A15: 1 | B15: SERVIÇOS PRELIMINARES | I15: 1.2882
A16: 1.1 | B16: BARRACAO DE MADEIRA/ALMOXARIFADO | C16: m² | D16: =20*4 -> 80 | E16: 40 | F16: 246.34 | G16: =F16*$I$15 -> 317.34 | H16: =E16*G16 -> 12693.6 | I16: =D16/2 -> 40 | K16: =H16/$H$21 -> 0.0911
A17: 1.2 | B17: CAPINA E LIMPEZA MANUAL DE TERRENO | C17: m² | D17: 2000 | E17: 1000 | F17: 1.19 | G17: =F17*$I$15 -> 1.53 | H17: =E17*G17 -> 1530 | I17: =D17/2 -> 1000 | K17: =H17/$H$21 -> 0.011
A18: 1.5 | B18: LOCACAO CONVENCIONAL DE OBRA, UTILIZANDO GABARITO DE TÁBUAS CORRIDAS PONTALETADAS A CADA 2,00M - 2 UTILIZAÇÕES. AF_10/2018 | C18: M | D18: 1000 | E18: 500 | F18: 41.96 | G18: =F18*$I$15 -> 54.05 | H18: =E18*G18 -> 27025 | I18: =D18/2 -> 500 | K18: =H18/$H$21 -> 0.1939
A19: 1.6 | B19: PLACA DE OBRA EM LONA COM PLOTAGEM DE GRAFICA | C19: m² | D19: =2.5*1.5*15 -> 56.25 | E19: 30 | F19: 161.09 | G19: =F19*$I$15 -> 207.52 | H19: =E19*G19 -> 6225.6 | I19: =D19/2 -> 28.13 | J19: =(2*3)*5 -> 30 | K19: =H19/$H$21 -> 0.0447
A20: 1.7 | B20: TAPUME COM TELHA METÁLICA. AF_05/2018 | C20: m² | D20: 1500 | E20: 750 | F20: 95.1 | G20: =F20*$I$15 -> 122.51 | H20: =E20*G20 -> 91882.5 | I20: =D20/2 -> 750 | K20: =H20/$H$21 -> 0.6593 | L20: =K20/2 -> 0.3297
A21: Total item 1 | H21: =SUM(H16:H20) -> 139356.7
A22: 2 | B22: DEMOLIÇÕES, RETIRADAS E REVISÕES
A23: 2.1 | B23: APICOAMENTO MANUAL DE SUPERFICIE DE CONCRETO | C23: m² | D23: 2000 | E23: 1000 | F23: 5.98 | G23: =F23*$I$15 -> 7.7 | H23: =E23*G23 -> 7700 | I23: =D23/2 -> 1000
A24: 2.2 | B24: DEMOLIGAO DA ESTRUTURA EM MADEIRA DA COBERTURA | C24: m² | D24: 4000 | E24: 2000 | F24: 5.97 | G24: =F24*$I$15 -> 7.69 | H24: =E24*G24 -> 15380 | I24: =D24/2 -> 2000
A25: 2.3 | B25: DEMOLIÇÃO DE ALVENARIA DE BLOCO FURADO, DE FORMA MANUAL, SEM REAPROVEITAMENTO. AF_12/2017 | C25: m³ | D25: 150 | E25: 75 | F25: 38.85 | G25: =F25*$I$15 -> 50.05 | H25: =E25*G25 -> 3753.75 | I25: =D25/2 -> 75
A26: 2.4 | B26: DEMOLIÇÃO DE ARGAMASSAS, DE FORMA MANUAL, SEM REAPROVEITAMENTO. AF_12/2017 | C26: m² | D26: 2000 | E26: 1000 | F26: 2.27 | G26: =F26*$I$15 -> 2.92 | H26: =E26*G26 -> 2920 | I26: =D26/2 -> 1000
A27: 2.5 | B27: DEMOLIÇÃO DE PILARES E VIGAS EM CONCRETO ARMADO, DE FORMA MANUAL, SEM REAPROVEITAMENTO. AF_12/2017 | C27: m³ | D27: 30 | E27: 15 | F27: 412.31 | G27: =F27*$I$15 -> 531.14 | H27: =E27*G27 -> 7967.1 | I27: =D27/2 -> 15
A28: 2.6 | B28: DEMOLIÇÃO DE REVESTIMENTO CERÂMICO, DE FORMA MANUAL, SEM REAPROVEITAMENTO. AF_12/2017 | C28: m² | D28: 1500 | E28: 750 | F28: 15.82 | G28: =F28*$I$15 -> 20.38 | H28: =E28*G28 -> 15285 | I28: =D28/2 -> 750
A29: 2.7 | B29: DEMOLIÇÃO DE RODAPÉ CERÂMICO, DE FORMA MANUAL, SEM REAPROVEITAMENTO. AF_12/2017 | C29: M | D29: 1000 | E29: 500 | F29: 1.81 | G29: =F29*$I$15 -> 2.33 | H29: =E29*G29 -> 1165 | I29: =D29/2 -> 500
A30: 2.8 | B30: RECOLOCACAO DE TELHAS CERAMICAS TIPO FRANCESA, CONSIDERANDO REAPROVEITAMENTO DE MATERIAL | C30: m² | D30: =D24 -> 4000 | E30: 2000 | F30: 10.67 | G30: =F30*$I$15 -> 13.75 | H30: =E30*G30 -> 27500 | I30: =D30/2 -> 2000
A31: 2.9 | B31: REMOÇÃO DE JANELAS, DE FORMA MANUAL, SEM REAPROVEITAMENTO. AF_12/2017 | C31: m² | D31: 300 | E31: 150 | F31: 21.9 | G31: =F31*$I$15 -> 28.21 | H31: =E31*G31 -> 4231.5 | I31: =D31/2 -> 150
A32: 2.10 | B32: REMOÇÃO DE PORTAS, DE FORMA MANUAL, SEM REAPROVEITAMENTO. AF_12/2017 | C32: m² | D32: 500 | E32: 250 | F32: 6.29 | G32: =F32*$I$15 -> 8.1 | H32: =E32*G32 -> 2025 | I32: =D32/2 -> 250
A33: 2.11 | B33: REMOÇÃO DE TELHAS, DE FIBROCIMENTO, METÁLICA E CERÂMICA, DE FORMA MANUAL, SEM REAPROVEITAMENTO. AF_12/2017 | C33: m² | D33: 3000 | E33: 1500 | F33: 2.36 | G33: =F33*$I$15 -> 3.04 | H33: =E33*G33 -> 4560 | I33: =D33/2 -> 1500
A34: 2.12 | B34: RETIRADA DE PINTURA (C/ ESCOVA DE AGO) | C34: m² | D34: 15000 | E34: 7500 | F34: 4.51 | G34: =F34*$I$15 -> 5.81 | H34: =E34*G34 -> 43575 | I34: =D34/2 -> 7500
A35: 2.13 | B35: RETIRADA DE ENTULHO - MANUALMENTE (INCLUINDO CAIXA COLETORA) | C35: m³ | D35: 150 | E35: 75 | F35: 89.65 | G35: =F35*$I$15 -> 115.49 | H35: =E35*G35 -> 8661.75 | I35: =D35/2 -> 75
A36: 2.14 | B36: RETIRADA DE ENTULHO C/ EQUIPAMENTO DISTANCIA ATE 5K | C36: m³ | D36: 800 | E36: 400 | F36: 22.18 | G36: =F36*$I$15 -> 28.57 | H36: =E36*G36 -> 11428 | I36: =D36/2 -> 400
A37: 2.15 | B37: RETIRADA DE FORRO EM PVC, INCL. BARROTEAMENTO | C37: m² | D37: 2000 | E37: 1000 | F37: 4.99 | G37: =F37*$I$15 -> 6.43 | H37: =E37*G37 -> 6430 | I37: =D37/2 -> 1000
A38: 2.16 | B38: RETIRADA DE LOUGA SANITARIA | C38: UN | D38: 80 | E38: 40 | F38: 33.39 | G38: =F38*$I$15 -> 43.01 | H38: =E38*G38 -> 1720.4 | I38: =D38/2 -> 40
A39: 2.17 | B39: RETIRADA DE LUMINARIAS | C39: UN | D39: 450 | E39: 225 | F39: 13.48 | G39: =F39*$I$15 -> 17.36 | H39: =E39*G39 -> 3906 | I39: =D39/2 -> 225
A40: 2.18 | B40: RETIRADA DE PISO CERAMICO, INCLUSIVE CAMADA REGULARIZADORA | C40: m² | D40: 4000 | E40: 2000 | F40: 6.7 | G40: =F40*$I$15 -> 8.63 | H40: =E40*G40 -> 17260 | I40: =D40/2 -> 2000
A41: 2.19 | B41: RETIRADA DE SOLEIRA E PEITORIL | C41: m² | D41: 250 | E41: 125 | F41: 14.85 | G41: =F41*$I$15 -> 19.13 | H41: =E41*G41 -> 2391.25 | I41: =D41/2 -> 125
A42: 2.20 | B42: RETIRADA DE TELHAS DE BARRO | C42: m² | D42: 3000 | E42: 1500 | F42: 8.39 | G42: =F42*$I$15 -> 10.81 | H42: =E42*G42 -> 16215 | I42: =D42/2 -> 1500
... A44: 2.22 | B44: REVISAO DE PONTO DE ESGOTO | C44: Pt | D44: 600 | E44: 300 | F44: 121.65 | G44: =F44*$I$15 -> 156.71 | H44: =E44*G44 -> 47013 | I44: =D44/2 -> 300
A45: Total item 2 | H45: =SUM(H23:H44) -> 292052.75 | I45: =D45/2 -> 0
A46: 3 | B46: INFRAESTRUTURA | I46: =D46/2 -> 0
A47: 3.1 | B47: ESCAVAÇÃO MANUAL DE VALA COM PROFUNDIDADE MENOR OU IGUAL A 1,30 M. AF_03/2016 | C47: m³ | D47: 150 | E47: 75 | F47: 59.08 | G47: =F47*$I$15 -> 76.11 | H47: =E47*G47 -> 5708.25 | I47: =D47/2 -> 75
...

Sheet Cron. Fís. Finan. Acumulado
A3: ESTADO DO PARÁ
A4: PREFEITURA MUNICIPAL DE TUCURUÍ
A5: SECRETARIA MUNICIPAL DE OBRAS, URBANISMO E HABITAÇÃO
A7: EVENTUAL E FUTURA CONTRATAÇÃO DE EMPRESA PARA EXECUÇÃO DE SERVIÇOS DE ENGENHARIA DE NATUREZA FREQUENTE, INCLUSO MATERIAL E MÃO-DE-OBRA, RELATIVOS À MANUTENÇÃO PREVENTIVA OU CORRETIVA, CONSERVAÇÃO E PEQUENOS REPAROS, EM PRÉDIOS E ESPAÇOS PÚBLICOS DO PODER EXECUTIVO DO MUNICÍPIO DE TUCURUÍ-PA - LOTE 01 ( SECRETARIA DE EDUCAÇÃO)
A9: CRONOGRAMA FISICO-FINANCEIRO
A11: ITEM | B11: PERIODO DE EXECUÇÃO | D11: Mês 1 | E11: Mês 2 | F11: Mês 3 | G11: Mês 4 | H11: Mês 5 | I11: Mês 6 | J11: Mês 7 | K11: Mês 8 | L11: Mês 9 | M11: Mês 10 | N11: Mês 11 | O11: Mês 12 | P11: (%) Referente a Obra (A)
A13: 1 | B13: Mobilização
B16: DESCRIÇÃO DOS SERVIÇOS | C16: R$
A18: 1.1 | B18: SERVIÇOS PRELIMINARES | C18: ='Orçamento PARA 2ª CONTRATAÇÃO'!H21 -> 139356.7 | D18: 0.1357 | E18: 0.1048 | F18: 0.1 | G18: 0.3298 | H18: 0.3297 | P18: =C18/$C$72 -> 0.0264
D20: =D18*C18 -> 18910.7 | E20: =E18*C18 -> 14604.58 | F20: =F18*C18 -> 13935.67 | G20: =G18*C18 -> 45959.84 | H20: =H18*C18 -> 45945.9 | I20: =I18*C18 -> 0 | J20: =J18*C18 -> 0 | K20: =K18*C18 -> 0 | L20: =L18*C18 -> 0 | M20: =M18*C18 -> 0 | N20: =N18*C18 -> 0 | O20: =O18*C18 -> 0
A21: 1.2 | B21: DEMOLIÇÕES, RETIRADAS E REVISÕES | C21: ='Orçamento PARA 2ª CONTRATAÇÃO'!H45 -> 292052.75 | D21: 0.0769 | E21: 0.0823 | F21: 0.0826 | G21: 0.0827 | H21: 0.0821 | I21: 0.0825 | J21: 0.0831 | K21: 0.0869 | L21: 0.0854 | M21: 0.0912 | N21: 0.0903 | O21: 0.074 | P21: =C21/$C$72 -> 0.0553
D23: =D21*C21 -> 22458.86 | E23: =E21*C21 -> 24035.94 | F23: =F21*C21 -> 24123.56 | G23: =G21*C21 -> 24152.76 | H23: =H21*C21 -> 23977.53 | I23: =I21*C21 -> 24094.35 | J23: =J21*C21 -> 24269.58 | K23: =K21*C21 -> 25379.38 | L23: =L21*C21 -> 24941.3 | M23: =M21*C21 -> 26635.21 | N23: =N21*C21 -> 26372.36 | O23: =O21*C21 -> 21611.9
A24: 1.3 | B24: INFRAESTRUTURA | C24: ='Orçamento PARA 2ª CONTRATAÇÃO'!H53 -> 277767.75 | D24: 0.1 | E24: 0.1 | F24: 0.08 | G24: 0.08 | H24: 0.08 | I24: 0.08 | J24: 0.08 | K24: 0.08 | L24: 0.08 | M24: 0.08 | N24: 0.08 | O24: 0.08 | P24: =C24/$C$72 -> 0.0526
D26: =D24*C24 -> 27776.78 | E26: =E24*C24 -> 27776.78 | F26: =F24*C24 -> 22221.42 | G26: =G24*C24 -> 22221.42 | H26: =H24*C24 -> 22221.42 | I26: =I24*C24 -> 22221.42 | J26: =J24*C24 -> 22221.42 | K26: =K24*C24 -> 22221.42 | L26: =L24*C24 -> 22221.42 | M26: =M24*C24 -> 22221.42 | N26: =N24*C24 -> 22221.42 | O26: =O24*C24 -> 22221.42
A27: 1.4 | B27: SUPERESTRUTURA | C27: ='Orçamento PARA 2ª CONTRATAÇÃO'!H58 -> 209448.5 | D27: 0.09 | E27: 0.09 | F27: 0.09 | G27: 0.09 | H27: 0.08 | I27: 0.08 | J27: 0.08 | K27: 0.08 | L27: 0.08 | M27: 0.08 | N27: 0.08 | O27: 0.08 | P27: =C27/$C$72 -> 0.0397
D29: =D27*C27 -> 18850.37 | E29: =E27*C27 -> 18850.37 | F29: =F27*C27 -> 18850.37 | G29: =G27*C27 -> 18850.37 | H29: =H27*C27 -> 16755.88 | I29: =I27*C27 -> 16755.88 | J29: =J27*C27 -> 16755.88 | K29: =K27*C27 -> 16755.88 | L29: =L27*C27 -> 16755.88 | M29: =M27*C27 -> 16755.88 | N29: =N27*C27 -> 16755.88 | O29: =O27*C27 -> 16755.88
A30: 1.5 | B30: VEDAÇÕES | C30: ='Orçamento PARA 2ª CONTRATAÇÃO'!H68 -> 293595.3 | D30: 0.09 | E30: 0.09 | F30: 0.09 | G30: 0.09 | H30: 0.08 | I30: 0.08 | J30: 0.08 | K30: 0.08 | L30: 0.08 | M30: 0.08 | N30: 0.08 | O30: 0.08 | P30: =C30/$C$72 -> 0.0556
D32: =D30*C30 -> 26423.58 | E32: =E30*C30 -> 26423.58 | F32: =F30*C30 -> 26423.58 | G32: =G30*C30 -> 26423.58 | H32: =H30*C30 -> 23487.62 | I32: =I30*C30 -> 23487.62 | J32: =J30*C30 -> 23487.62 | K32: =K30*C30 -> 23487.62 | L32: =L30*C30 -> 23487.62 | M32: =M30*C30 -> 23487.62 | N32: =N30*C30 -> 23487.62 | O32: =O30*C30 -> 23487.62
A33: 1.6 | B33: COBERTURA | C33: ='Orçamento PARA 2ª CONTRATAÇÃO'!H80 -> 560658.7 | D33: 0.09 | E33: 0.09 | F33: 0.09 | G33: 0.09 | H33: 0.09 | I33: 0.09 | J33: 0.09 | K33: 0.09 | L33: 0.07 | M33: 0.07 | N33: 0.07 | O33: 0.07 | P33: =C33/$C$72 -> 0.1061
D35: =D33*C33 -> 50459.28 | E35: =E33*C33 -> 50459.28 | F35: =F33*C33 -> 50459.28 | G35: =G33*C33 -> 50459.28 | H35: =H33*C33 -> 50459.28 | I35: =I33*C33 -> 50459.28 | J35: =J33*C33 -> 50459.28 | K35: =K33*C33 -> 50459.28 | L35: =L33*C33 -> 39246.11 | M35: =M33*C33 -> 39246.11 | N35: =N33*C33 -> 39246.11 | O35: =O33*C33 -> 39246.11
A36: 1.7 | B36: FORRO | C36: ='Orçamento PARA 2ª CONTRATAÇÃO'!H85 -> 161500 | D36: 0.09 | E36: 0.09 | F36: 0.09 | G36: 0.09 | H36: 0.09 | I36: 0.09 | J36: 0.07 | K36: 0.07 | L36: 0.08 | M36: 0.08 | N36: 0.08 | O36: 0.08 | P36: =C36/$C$72 -> 0.0306
D38: =D36*C36 -> 14535 | E38: =E36*C36 -> 14535 | F38: =F36*C36 -> 14535 | G38: =G36*C36 -> 14535 | H38: =H36*C36 -> 14535 | I38: =I36*C36 -> 14535 | J38: =J36*C36 -> 11305 | K38: =K36*C36 -> 11305 | L38: =L36*C36 -> 12920 | M38: =M36*C36 -> 12920 | N38: =N36*C36 -> 12920 | O38: =O36*C36 -> 12920
A39: 1.8 | B39: ESQUADRIAS | C39: ='Orçamento PARA 2ª CONTRATAÇÃO'!H102 -> 505415.78 | D39: 0.09 | E39: 0.09 | F39: 0.09 | G39: 0.09 | H39: 0.09 | I39: 0.09 | J39: 0.07 | K39: 0.07 | L39: 0.08 | M39: 0.08 | N39: 0.08 | O39: 0.08 | P39: =C39/$C$72 -> 0.0957
D41: =D39*C39 -> 45487.42 | E41: =E39*C39 -> 45487.42 | F41: =F39*C39 -> 45487.42 | G41: =G39*C39 -> 45487.42 | H41: =H39*C39 -> 45487.42 | I41: =I39*C39 -> 45487.42 | J41: =J39*C39 -> 35379.1 | K41: =K39*C39 -> 35379.1 | L41: =L39*C39 -> 40433.26 | M41: =M39*C39 -> 40433.26 | N41: =N39*C39 -> 40433.26 | O41: =O39*C39 -> 40433.26
A42: 1.9 | B42: INSTALAÇÕES ELÉTRICAS | C42: ='Orçamento PARA 2ª CONTRATAÇÃO'!H145 -> 307105.65 | D42: 0.0875 | E42: 0.0875 | F42: 0.0825 | G42: 0.0825 | H42: 0.085 | I42: 0.085 | J42: 0.085 | K42: 0.085 | L42: 0.08 | M42: 0.08 | N42: 0.08 | O42: 0.08 | P42: =C42/$C$72 -> 0.0581
D44: =D42*C42 -> 26871.74 | E44: =E42*C42 -> 26871.74 | F44: =F42*C42 -> 25336.22 | G44: =G42*C42 -> 25336.22 | H44: =H42*C42 -> 26103.98 | I44: =I42*C42 -> 26103.98 | J44: =J42*C42 -> 26103.98 | K44: =K42*C42 -> 26103.98 | L44: =L42*C42 -> 24568.45 | M44: =M42*C42 -> 24568.45 | N44: =N42*C42 -> 24568.45 | O44: =O42*C42 -> 24568.45
A45: 1.10 | B45: INSTALAÇÕES HIDROSANITÁRIAS | C45: ='Orçamento PARA 2ª CONTRATAÇÃO'!H170 -> 355244.56 | D45: 0.0812 | E45: 0.0988 | F45: 0.0812 | G45: 0.0988 | H45: 0.0712 | I45: 0.0888 | J45: 0.0712 | K45: 0.0888 | L45: 0.0712 | M45: 0.0888 | N45: 0.08 | O45: 0.08 | P45: =C45/$C$72 -> 0.0673
D47: =D45*C45 -> 28845.86 | E47: =E45*C45 -> 35098.16 | F47: =F45*C45 -> 28845.86 | G47: =G45*C45 -> 35098.16 | H47: =H45*C45 -> 25293.41 | I47: =I45*C45 -> 31545.72 | J47: =J45*C45 -> 25293.41 | K47: =K45*C45 -> 31545.72 | L47: =L45*C45 -> 25293.41 | M47: =M45*C45 -> 31545.72 | N47: =N45*C45 -> 28419.56 | O47: =O45*C45 -> 28419.56
A48: 1.11 | B48: REVESTIMENTOS | C48: ='Orçamento PARA 2ª CONTRATAÇÃO'!H179 -> 215992 | D48: 0.09 | E48: 0.09 | F48: 0.09 | G48: 0.09 | H48: 0.08 | I48: 0.08 | J48: 0.08 | K48: 0.08 | L48: 0.08 | M48: 0.08 | N48: 0.08 | O48: 0.08 | P48: =C48/$C$72 -> 0.0409
D50: =D48*C48 -> 19439.28 | E50: =E48*C48 -> 19439.28 | F50: =F48*C48 -> 19439.28 | G50: =G48*C48 -> 19439.28 | H50: =H48*C48 -> 17279.36 | I50: =I48*C48 -> 17279.36 | J50: =J48*C48 -> 17279.36 | K50: =K48*C48 -> 17279.36 | L50: =L48*C48 -> 17279.36 | M50: =M48*C48 -> 17279.36 | N50: =N48*C48 -> 17279.36 | O50: =O48*C48 -> 17279.36
A51: 1.12 | B51: PINTURA | C51: ='Orçamento PARA 2ª CONTRATAÇÃO'!H190 -> 511388.75 | D51: 0.09 | E51: 0.09 | F51: 0.09 | G51: 0.09 | H51: 0.08 | I51: 0.08 | J51: 0.08 | K51: 0.08 | L51: 0.08 | M51: 0.08 | N51: 0.08 | O51: 0.08 | P51: =C51/$C$72 -> 0.0968
D53: =D51*C51 -> 46024.99 | E53: =E51*C51 -> 46024.99 | F53: =F51*C51 -> 46024.99 | G53: =G51*C51 -> 46024.99 | H53: =H51*C51 -> 40911.1 | I53: =I51*C51 -> 40911.1 | J53: =J51*C51 -> 40911.1 | K53: =K51*C51 -> 40911.1 | L53: =L51*C51 -> 40911.1 | M53: =M51*C51 -> 40911.1 | N53: =N51*C51 -> 40911.1 | O53: =O51*C51 -> 40911.1
A54: 1.13 | B54: PISO | C54: ='Orçamento PARA 2ª CONTRATAÇÃO'!H203 -> 547742.4 | D54: 0.09 | E54: 0.09 | F54: 0.09 | G54: 0.09 | H54: 0.09 | I54: 0.09 | J54: 0.07 | K54: 0.07 | L54: 0.08 | M54: 0.08 | N54: 0.08 | O54: 0.08 | P54: =C54/$C$72 -> 0.1037
D56: =D54*C54 -> 49296.82 | E56: =E54*C54 -> 49296.82 | F56: =F54*C54 -> 49296.82 | G56: =G54*C54 -> 49296.82 | H56: =H54*C54 -> 49296.82 | I56: =I54*C54 -> 49296.82 | J56: =J54*C54 -> 38341.97 | K56: =K54*C54 -> 38341.97 | L56: =L54*C54 -> 43819.39 | M56: =M54*C54 -> 43819.39 | N56: =N54*C54 -> 43819.39 | O56: =O54*C54 -> 43819.39
A57: 1.14 | B57: LOUÇAS E METAIS | C57: ='Orçamento PARA 2ª CONTRATAÇÃO'!H221 -> 57737.38 | D57: 0.09 | E57: 0.09 | F57: 0.09 | G57: 0.09 | H57: 0.09 | I57: 0.09 | J57: 0.09 | K57: 0.09 | L57: 0.07 | M57: 0.07 | N57: 0.07 | O57: 0.07 | P57: =C57/$C$72 -> 0.0109
D59: =D57*C57 -> 5196.36 | E59: =E57*C57 -> 5196.36 | F59: =F57*C57 -> 5196.36 | G59: =G57*C57 -> 5196.36 | H59: =H57*C57 -> 5196.36 | I59: =I57*C57 -> 5196.36 | J59: =J57*C57 -> 5196.36 | K59: =K57*C57 -> 5196.36 | L59: =L57*C57 -> 4041.62 | M59: =M57*C57 -> 4041.62 | N59: =N57*C57 -> 4041.62 | O59: =O57*C57 -> 4041.62
A60: 1.15 | B60: SPDA | C60: ='Orçamento PARA 2ª CONTRATAÇÃO'!H235 -> 81822.45 | D60: 0.09 | E60: 0.09 | F60: 0.09 | G60: 0.09 | H60: 0.08 | I60: 0.08 | J60: 0.08 | K60: 0.08 | L60: 0.08 | M60: 0.08 | N60: 0.08 | O60: 0.08 | P60: =C60/$C$72 -> 0.0155
D62: =D60*C60 -> 7364.02 | E62: =E60*C60 -> 7364.02 | F62: =F60*C60 -> 7364.02 | G62: =G60*C60 -> 7364.02 | H62: =H60*C60 -> 6545.8 | I62: =I60*C60 -> 6545.8 | J62: =J60*C60 -> 6545.8 | K62: =K60*C60 -> 6545.8 | L62: =L60*C60 -> 6545.8 | M62: =M60*C60 -> 6545.8 | N62: =N60*C60 -> 6545.8 | O62: =O60*C60 -> 6545.8
A63: 1.16 | B63: IMPERMEABILIZAÇÃO | C63: ='Orçamento PARA 2ª CONTRATAÇÃO'!H243 -> 85366 | D63: 0.09 | E63: 0.09 | F63: 0.09 | G63: 0.09 | H63: 0.08 | I63: 0.08 | J63: 0.08 | K63: 0.08 | L63: 0.08 | M63: 0.08 | N63: 0.08 | O63: 0.08 | P63: =C63/$C$72 -> 0.0162
D65: =D63*C63 -> 7682.94 | E65: =E63*C63 -> 7682.94 | F65: =F63*C63 -> 7682.94 | G65: =G63*C63 -> 7682.94 | H65: =H63*C63 -> 6829.28 | I65: =I63*C63 -> 6829.28 | J65: =J63*C63 -> 6829.28 | K65: =K63*C63 -> 6829.28 | L65: =L63*C63 -> 6829.28 | M65: =M63*C63 -> 6829.28 | N65: =N63*C63 -> 6829.28 | O65: =O63*C63 -> 6829.28
...

Sheet CPUs
A3: ESTADO DO PARÁ
A4: PREFEITURA MUNICIPAL DE TUCURUÍ
A5: SECRETARIA MUNICIPAL DE OBRAS, SERVIÇOS URBANOS E HABITAÇÃO
A7: ='Orçamento Sintético'!A9:G9 -> EVENTUAL E FUTURA CONTRATAÇÃO DE EMPRESA PARA EXECUÇÃO DE SERVIÇOS DE ENGENHARIA DE NATUREZA FREQUENTE, INCLUSO MATERIAL E MÃO-DE-OBRA, RELATIVOS À MANUTENÇÃO PREVENTIVA OU CORRETIVA, CONSERVAÇÃO E PEQUENOS REPAROS, EM PRÉDIOS E ESPAÇOS PÚBLICOS DO PODER EXECUTIVO DO MUNICÍPIO DE TUCURUÍ-PA - LOTE 01 ( SECRETARIA DE EDUCAÇÃO)
A9: Composições Analíticas com Preço Unitário
A10: Composições Principais
A11: 5.5 | B11: Descrição | C11: Und | D11: Quant. | E11: Valor Unit | F11: Total
A12: Composição | B12: FORNECIMENTO DE MATERIAIS E MÃO-DE-OBRA PARA EXECUÇÃO DE SERVIÇOS DE INSTALAÇÃO DE DIVISÓRIAS EM GRANITO VERDE UBATUBA, INCL. FERRAGENS DE FIXAÇÃO
B13: Mão de Obra
B14: MARMORISTA/GRANITEIRO COM ENCARGOS COMPLEMENTARES | C14: H | D14: 4.8 | E14: 19.41 | F14: =D14*E14 -> 93.17
B15: SERVENTE COM ENCARGOS COMPLEMENTARES | C15: H | D15: 2.3 | E15: 15.06 | F15: =D15*E15 -> 34.64
A16: Subtotal da Mão de Obra | F16: =SUM(F14:F15) -> 127.81
A17: Total Parcial (A) | F17: =SUM(F16:F16) -> 127.81
B18: Materiais e Serviços
B19: ARGAMASSA TRAÇO 1:4 (EM VOLUME DE CIMENTO E AREIA MÉDIA ÚMIDA), PREPARO MANUAL. AF_08/2019 | C19: m³ | D19: 0.0033 | E19: 530.88 | F19: =D19*E19 -> 1.75
B20: CIMENTO BRANCO | C20: KG | D20: 0.7 | E20: 5.16 | F20: =D20*E20 -> 3.61
B21: Divisória em Granito Verde Ubatuba | C21: m² | D21: 1 | E21: 420 | F21: =D21*E21 -> 420
A22: Total Parcial (B) | F22: =SUM(F19:F21) -> 425.36
A23: Total do Custo Unitário (A+B) | F23: =F22+F17 -> 553.17
A24: Total do Preço Unitário | F24: =F23 -> 553.17
A25: 5.8 | B25: Descrição | C25: Und | D25: Quant. | E25: Valor Unit | F25: Total
A26: Composição | B26: FORNECIMENTO DE MATERIAIS E MÃO-DE-OBRA PARA EXECUÇÃO DE SERVIÇOS DE INSTALAÇÃO DE DIVISÓRIA EM BLOCOS DE GESSO | C26: m²
B27: Mão de Obra
B28: PEDREIRO COM ENCARGOS COMPLEMENTARES | C28: H | D28: 0.15 | E28: 18.89 | F28: =D28*E28 -> 2.83
B29: AJUDANTE DE PEDREIRO COM ENCARGOS COMPLEMENTARES | C29: H | D29: 0.25 | E29: 15.11 | F29: =D29*E29 -> 3.78
A30: Subtotal da Mão de Obra | F30: =SUM(F28:F29) -> 6.61
A31: Total Parcial (A) | F31: =SUM(F30:F30) -> 6.61
B32: Materiais e Serviços
B33: GESSO EM PO PARA REVESTIMENTOS/MOLDURAS/SANCAS E USO GERAL | C33: KG | D33: 4 | E33: 0.34 | F33: =D33*E33 -> 1.36
B34: BLOCO DE GESSO VAZADO, BRANCO, E = *7* CM, DIMENSOES *67 X 50* CM | C34: un | D34: 4 | E34: 14.9 | F34: =D34*E34 -> 59.6
A35: Total Parcial (B) | F35: =SUM(F33:F34) -> 60.96
A36: Total do Custo Unitário (A+B) | F36: =F35+F31 -> 67.57
A37: Total do Preço Unitário | F37: =F36 -> 67.57
A38: 8.12 | B38: Descrição | C38: Und | D38: Quant. | E38: Valor Unit | F38: Total
A39: Composição | B39: FORNECIMENTO DE MATERIAIS E MÃO-DE-OBRA PARA EXECUÇÃO DE SERVIÇOS PARA GRADE DE FERRO EM METALOM (INCL. PINT.ANTI-CORROSIVA)
B40: Mão de Obra
A41: 88309 | B41: PEDREIRO COM ENCARGOS COMPLEMENTARES | C41: H | D41: 1 | E41: 18.89 | F41: =D41*E41 -> 18.89
A42: 88316 | B42: SERVENTE COM ENCARGOS COMPLEMENTARES | C42: H | D42: 1 | E42: 15.06 | F42: =D42*E42 -> 15.06
A43: Subtotal da Mão de Obra | F43: =SUM(F41:F42) -> 33.95
A44: Total Parcial (A) | F44: =SUM(F43:F43) -> 33.95
...
