Workbook
Name a: [1]INSUMOS!#REF!
Name a: [1]INSUMOS!#REF!
Name Aterro_arenoso: [2]Preços!$C$15
Name Carrinho_de_mão: [2]Preços!$C$291
Name Compactador_de_placa_vibratória: [2]Preços!$C$286
Name Encarregado: [2]Preços!$C$277
Name LADRILHISTA: [1]INSUMOS!#REF!
Name LADRILHISTA: [1]INSUMOS!#REF!
Name MAO_DE_OBRA_PARA_COLOCACAO_DE_VIDRO_COM_MASSA: [1]INSUMOS!#REF!
Name MAO_DE_OBRA_PARA_COLOCACAO_DE_VIDRO_COM_MASSA: [1]INSUMOS!#REF!
Name Oficial: [2]Preços!$C$278

Sheet ORÇAMENTO - CASA DE FORÇA
I1: BDI | J1: 1.2882
A6: ESTADO DO PARÁ
A7: PREFEITURA MUNICIPAL DE TUCURUÍ
A8: SECRETARIA MUNICIPAL DE OBRAS, SERVIÇOS URBANOS E HABITAÇÃO
A10: PLANILHA DE QUANTITATIVO E PREÇOS
A12: CONSTRUÇÃO DE CASA DE FORÇA E FORNECIMENTO E INSTALAÇÃO DE BALIZAMENTO DO AEROPORTO REGIONAL DE TUCURUÍ | I12: Reprogramação abril 2018
A15: BDI: 28,82%
A16: SINAPI JULHO/2021 e SEDOP MARÇO/2021
A17: ENCARGOS SOCIAIS DESONERADOS: 86,90%(HORA) 47,89%(MÊS)
A18: Item | B18: Sinapi | C18: Serviços | D18: Unid. | E18: Quant. | F18: Valor Unitário | G18: Preço (R$) Valor unit. + BDI | H18: Valor Total
A19: 1 | B19: SERVIÇOS PRELIMINARES
A20: 1.1 | B20: Composição | C20: Instalação provisória de luz e força para obra | D20: un | E20: 1 | F20: =Composição!F36 -> 1483.32 | G20: =F20*$J$1 -> 1910.81 | H20: =E20*G20 -> 1910.81
A21: 1.2 | B21: SEDOP 011340 | C21: Placas de obra em lona com plotagem de gráfica, dim 3,00x2,00m - 1 unidade | D21: m² | E21: 6 | F21: 173.48 | G21: =F21*$J$1 -> 223.48 | H21: =E21*G21 -> 1340.88 | I21: =2.88*1.8 -> 5.18 | J21: =2*4 -> 8
A22: 1.3 | B22: 99059 | C22: Locação convencional de obra, utilizando gabarito de tábuas corridas | D22: m | E22: =18.32+6.8+2 -> 27.12 | F22: 44.4 | G22: =F22*$J$1 -> 57.2 | H22: =E22*G22 -> 1551.26
A23: 1.4 | B23: 98524 | C23: Limpeza manual de vegetação em terreno com enxada | D23: m² | E23: =E150 -> 282 | F23: 2.39 | G23: =F23*$J$1 -> 3.08 | H23: =E23*G23 -> 868.56
A24: TOTAL DO ITEM 1 | H24: =SUM(H20:H23) -> 5671.51 | I24: =H24 -> 5671.51
A25: 2 | B25: INFRAESTRUTURA E SUPERESTRUTURA
A26: 2.1 | B26: 93358 | C26: Execução de escavação manual de vala em solo de 1ª categoria com profundidade até 2,00 m | D26: m³ | E26: 20.91 | F26: 59.57 | G26: =F26*$J$1 -> 76.74 | H26: =E26*G26 -> 1604.63
A27: 2.2 | B27: 101616 | C27: Execução de apiloamento de fundo de vala | D27: m² | E27: 26.39 | F27: 4.37 | G27: =F27*$J$1 -> 5.63 | H27: =E27*G27 -> 148.58
A28: 2.3 | B28: SEDOP 040257 | C28: Fornecimento, preparo e lançamento de concreto magro para regularização e lastro fck 10 Mpa | D28: m³ | E28: 0.36 | F28: 584.2 | G28: =F28*$J$1 -> 752.57 | H28: =E28*G28 -> 270.93
A29: 2.4 | B29: 92791 | C29: Fornecimento, dobra e aplicação de aço CA-60 B 5.0 | D29: kg | E29: 287.5 | F29: 10.35 | G29: =F29*$J$1 -> 13.33 | H29: =E29*G29 -> 3832.38
A30: 2.5 | B30: 92793 | C30: Fornecimento, dobra e aplicação de aço CA-60 B 8.0 | D30: kg | E30: 376.6 | F30: 10.66 | G30: =F30*$J$1 -> 13.73 | H30: =E30*G30 -> 5170.72
A31: 2.6 | B31: 92794 | C31: Fornecimento, dobra e aplicação de aço CA-60 B 10.0 | D31: kg | E31: 231.8 | F31: 9.86 | G31: =F31*$J$1 -> 12.7 | H31: =E31*G31 -> 2943.86
A32: 2.7 | B32: SEDOP 050035 + 050037 | C32: Fornecimento de forma de madeira para concreto em infra-estrutura, inclusive desforma | D32: m² | E32: 206.52 | F32: 63.99 | G32: =F32*$J$1 -> 82.43 | H32: =E32*G32 -> 17023.44
A33: 2.8 | B33: SEDOP050740 | C33: Fornecimento, preparo e lançamento de concreto estrutural controle "B" fck 25 Mpa | D33: m³ | E33: 13.91 | F33: 723.67 | G33: =F33*$J$1 -> 932.23 | H33: =E33*G33 -> 12967.32
A34: 2.9 | B34: 93382 | C34: Lançamento e compactação de reaterro manual com material coesivo de 1ª categoria proveniente da escavação das fundações | D34: m³ | E34: 14.52 | F34: 23.55 | G34: =F34*$J$1 -> 30.34 | H34: =E34*G34 -> 440.54
A35: 2.10 | B35: 98557 | C35: Impermeabilização de fundação com emulsão asfáltica, duas demãos | D35: m² | E35: 71.31 | F35: 31.19 | G35: =F35*$J$1 -> 40.18 | H35: =E35*G35 -> 2865.24
A36: TOTAL DO ITEM 2 | H36: =SUM(H26:H35) -> 47267.64
A37: 3 | B37: VEDAÇÕES INTERNAS E EXTERNAS
A38: 3.1 | B38: 101161 | C38: Fornecimento e assentamento de vedação com elemento vazado de concreto (cobogó) de 7x50x50 cm e argamassa de assentamento com preparo em betoneira | D38: m² | E38: =((6.5+5.5)*0.5)+(1*0.5*2) -> 7 | F38: 166.52 | G38: =F38*$J$1 -> 214.51 | H38: =E38*G38 -> 1501.57
A39: 3.2 | B39: 87519 | C39: Fornecimento e execução de alvenaria em tijolo cerâmico furado 9 x 19 x 19 cm, assentado em argamassa de traço 1:4 (cimento e areia), posição a cutelo | D39: m² | E39: =(25.86*2)+(18.32*3.1*2)+((4.3+1.65+5.52+6.5)*3.1) -> 221.01 | F39: 71.44 | G39: =F39*$J$1 -> 92.03 | H39: =E39*G39 -> 20339.55
A40: TOTAL DO ITEM 3 | H40: =SUM(H38:H39) -> 21841.12 | I40: =H40 -> 21841.12
A41: 4 | B41: COBERTURA
A42: 4.1 | B42: 94207 | C42: Fornecimento e instalação de cobertura de telha ondulada de fibrocimento, e = 6 mm | D42: m² | E42: =89.4*1.02*2 -> 182.38 | F42: 58.05 | G42: =F42*$J$1 -> 74.78 | H42: =E42*G42 -> 13638.38 | I42: FATOR DE CORREÇÃO 20% = 1,02
A43: 4.2 | B43: 94223 | C43: Fornecimento e instalação de cumeeira em fibrocimento, inclusive juntas e acessórios | D43: m | E43: 20.4 | F43: 73.85 | G43: =F43*$J$1 -> 95.13 | H43: =E43*G43 -> 1940.65
A44: 4.3 | B44: 92559 | C44: Fabricação e instalação de tesoura inteira em madeira não aparelhada, vão de 7 m, para tleha ondulada de fibrocimento | D44: unid. | E44: 5 | F44: 1411.06 | G44: =F44*$J$1 -> 1817.73 | H44: =E44*G44 -> 9088.65
A45: 4.4 | B45: 92543 | C45: Trama de madeira composta por terças para telhado de até 2 águas para telha ondulada de fibrocimento, incluso transporte vertical | D45: m² | E45: =E42 -> 182.38 | F45: 18.27 | G45: =F45*$J$1 -> 23.54 | H45: =E45*G45 -> 4293.23
A46: TOTAL DO ITEM 4 | H46: =SUM(H42:H45) -> 28960.91 | I46: =H46 -> 28960.91
A47: 5 | B47: INSTALAÇÕES ELÉTRICAS
A48: 5.1 | B48: 91924 | C48: Fornecimento, lançamento e ligação de cabo unipolar de cobre isolante PVC 450 / 750V - 1,5 mm² - na cor azul claro | D48: m | E48: 60 | F48: 2.69 | G48: =F48*$J$1 -> 3.47 | H48: =E48*G48 -> 208.2
...

Sheet Composição
A8: ESTADO DO PARÁ
A9: PREFEITURA MUNICIPAL DE TUCURUÍ
A10: SECRETARIA MUNICIPAL DE OBRAS, SERVIÇOS URBANOS E HABITAÇÃO
A12: ='ORÇAMENTO - CASA DE FORÇA'!A12:H12 -> CONSTRUÇÃO DE CASA DE FORÇA E FORNECIMENTO E INSTALAÇÃO DE BALIZAMENTO DO AEROPORTO REGIONAL DE TUCURUÍ
A14: ='ORÇAMENTO - CASA DE FORÇA'!A13:H13 -> 0
A16: COMPOSIÇÕES DE PREÇOS UNITÁRIOS
A18: BDI: 28,82%
A19: SINAPI JULHO/2021 e SEDOP MARÇO/2021
A20: ENCARGOS SOCIAIS DESONERADOS: 86,90%(HORA) 47,89%(MÊS)
A22: Item | B22: Descrição | C22: Unid. | D22: Coeficiente | E22: Preço Unit. | F22: Total R$
A23: 1 - SERVIÇOS PRELIMINARES
A24: 1.1 | B24: Instalação provisória de luz e força para obra - unidade
A25: CÓDIGO SINAP/SEOP | B25: Mão de Obra
A26: 88264 | B26: ELETRICISTA COM ENCARGOS COMPLEMENTARES | C26: h | D26: 24 | E26: 19.04 | F26: =ROUND(D26*E26,2) -> 456.96
A27: 88247 | B27: AUXILIAR DE ELETRICISTA COM ENCARGOS COMPLEMENTARES | C27: h | D27: 24 | E27: 14.99 | F27: =ROUND(D27*E27,2) -> 359.76
A28: Subtotal da Mão de Obra | F28: =SUM(F26:F27) -> 816.72
A29: Total do Custo Unitário (A) | F29: =SUM(F28:F28) -> 816.72
B30: Materiais
A31: 994 | B31: CABO DE COBRE, FLEXIVEL, CLASSE 4 OU 5, ISOLACAO EM PVC/A, ANTICHAMA BWF-B,COBERTURA PVC-ST1, ANTICHAMA BWF-B, 1 CONDUTOR, 0,6/1 KV, SECAO NOMINAL 6 MM2 | C31: m | D31: 27 | E31: 7.29 | F31: =ROUND(D31*E31,2) -> 196.83
A32: SEDOP 170882 | B32: Caixa polifásica padrão Celpa | C32: Unid. | D32: 1 | E32: 161.77 | F32: =ROUND(D32*E32,2) -> 161.77
A33: Cotação | B33: POSTE GALV. P/PADRAO 5MT MON/BIF P/02 CX MONTADA | C33: Unid. | D33: 1 | E33: 308 | F33: =ROUND(D33*E33,2) -> 308
A34: Total do Custo Unitário (B) | F34: =SUM(F31:F33) -> 666.6
A35: Total do Custo Unitário (A+B) | F35: =SUM(F29+F34) -> 1483.32
A36: Total do Preço Unitário | F36: =F35 -> 1483.32 | G36: OK
A37: ='ORÇAMENTO - CASA DE FORÇA'!A47:D47 -> 5
A38: Item | B38: Descrição | C38: Unid. | D38: Índice | E38: Preço Unit. | F38: Total R$
A39: ='ORÇAMENTO - CASA DE FORÇA'!A71 -> 5.24 | B39: ='ORÇAMENTO - CASA DE FORÇA'!C71 -> Fornecimento e instalação de refletor retangular LED 30w/220v
B40: Mão de Obra
A41: 88264 | B41: ELETRICISTA COM ENCARGOS COMPLEMENTARES | C41: h | D41: 1 | E41: 19.04 | F41: =ROUND(D41*E41,2) -> 19.04
A42: 88247 | B42: AUXILIAR DE ELETRICISTA COM ENCARGOS COMPLEMENTARES | C42: h | D42: 1 | E42: 14.99 | F42: =ROUND(D42*E42,2) -> 14.99
A43: Subtotal da Mão de Obra | F43: =SUM(F41:F42) -> 34.03
A44: Total Parcial (A) | F44: =SUM(F43:F43) -> 34.03
B45: Materiais
A46: 39390 | B46: LUMINARIA LED REFLETOR RETANGULAR BIVOLT, LUZ BRANCA, 30 W | C46: un | D46: 1 | E46: 47.55 | F46: =ROUND(D46*E46,2) -> 47.55
A47: Total Parcial (B) | F47: =SUM(F46:F46) -> 47.55
A48: Total do Custo Unitário (A+B) | F48: =SUM(F44+F47) -> 81.58
A49: Total do Preço Unitário | F49: =F48 -> 81.58
A50: Item | B50: Descrição | C50: Unid. | D50: Índice | E50: Preço Unit. | F50: Total R$
A51: ='ORÇAMENTO - CASA DE FORÇA'!A74 -> 5.27 | B51: ='ORÇAMENTO - CASA DE FORÇA'!C74 -> Fornecimento e instalação de Luminária tipo plafon, de sobrepor, com 1 lâmpada LED 20 W.
B52: Mão de Obra
...

Sheet COMPOSIÇÕES DE CUSTO UNITÁRIO
A1: 1 - Serviços Preliminares
A2: Item | B2: Descrição | C2: Unid. | D2: Coeficiente | E2: Preço Unit. | F2: Total R$
B3: Instalação provisória de água - vb
B4: Mão de Obra
A5: 00002696 | B5: Encanador | C5: h | D5: 1.5 | E5: 10.7 | F5: =ROUND(D5*E5,2) -> 16.05
A6: 00006116 | B6: Ajudante de encanador | C6: h | D6: 3.5 | E6: 8.53 | F6: =ROUND(D6*E6,2) -> 29.86
A7: Subtotal da Mão de Obra | F7: =SUM(F5:F6) -> 45.91
A8: Total do Custo Unitário (A) | F8: =SUM(F7:F7) -> 45.91
B9: Materiais
A10: 00011831 | B10: Torneira uso geral Ø 3/4' | C10: un | D10: 1 | E10: 7.21 | F10: =ROUND(D10*E10,2) -> 7.21
A11: 00009869 | B11: Tubo de PVC soldável Ø 3/4" | C11: m | D11: 25 | E11: 5.17 | F11: =ROUND(D11*E11,2) -> 129.25
A12: 00001423 | B12: Colar de tomada de PVC Ø 3/4" | C12: un | D12: 7.25 | E12: 11.6 | F12: =ROUND(D12*E12,2) -> 84.1
A13: 00003482 | B13: Joelho 90º PVC marrom soldável Ø 25 mm | C13: un | D13: 2 | E13: 2.25 | F13: =ROUND(D13*E13,2) -> 4.5
A14: 00000122 | B14: Adesivo para tubo PVC rígido | C14: kg | D14: 0.006 | E14: 31.96 | F14: =ROUND(D14*E14,2) -> 0.19
A15: 00020083 | B15: Solução limpadora para PVC rígido | C15: l | D15: 0.0025 | E15: 37.85 | F15: =ROUND(D15*E15,2) -> 0.09
A16: Total do Custo Unitário (B) | F16: =SUM(F10:F15) -> 225.34
A17: Total do Custo Unitário (A+B) | F17: =SUM(F8+F16) -> 271.25
A18: Total do Preço Unitário | F18: =F17 -> 271.25
A19: Item | B19: Descrição | C19: Unid. | D19: Coeficiente | E19: Preço Unit. | F19: Total R$
B20: Tapume de telha fibrocimento ondulada (4mm) - Pintura a cal H=2,20m
B21: Mão de Obra
A22: 1213 | B22: Carpinteiro | C22: h | D22: 0.8 | E22: 10.7 | F22: =D22*E22 -> 8.56
A23: 6115 | B23: Servente | C23: h | D23: 0.8 | E23: 7.73 | F23: =D23*E23 -> 6.18
A24: Subtotal da Mão de Obra | F24: =SUM(F22:F23) -> 14.74
A25: Total parcial (A) | F25: =SUM(F24) -> 14.74
B26: Materiais
A27: 7191 | B27: Telha Brasilit ondulada 4mm 2,44x0,50m | C27: un | D27: 1 | E27: 12.12 | F27: =D27*E27 -> 12.12
A28: 5061 | B28: Prego 18x27 | C28: Kg | D28: 0.15 | E28: 6.6 | F28: =D28*E28 -> 0.99
A29: 4513 | B29: Caibro 3ª construção 5x6cm | C29: m | D29: 3.15 | E29: 1.17 | F29: =D29*E29 -> 3.69
A30: Total parcial (B) | F30: =SUM(F27:F29) -> 16.8
A31: Total do Custo Unitário (A+B) | F31: =SUM(F25,F30) -> 31.54
A32: BDI=27,84% | F32: =0.2784*F31 -> 8.78
A33: Total do Preço Unitário | F33: =SUM(F31:F32) -> 40.32
A34: Item | B34: Descrição | C34: Unid. | D34: Índice | E34: Preço Unit. | F34: Total R$
B35: Fornecimento e instalação de fita isolante autofusão 20m - Um
B36: Mão de Obra
A37: 00002436 | B37: Eletricista | C37: h | D37: 0.09 | E37: 10.7 | F37: =E37*D37 -> 0.96
A38: 00006113 | B38: Ajudante de eletricista | C38: h | D38: 0.09 | E38: 8.47 | F38: =E38*D38 -> 0.76
A39: Subtotal da Mão de Obra | F39: =SUM(F37:F38) -> 1.72
A40: Total Parcial (A) | F40: =SUM(F39:F39) -> 1.72
...

Sheet CRON. FÍS REPROGRAMAÇÃO
A7: ESTADO DO PARÁ
A8: PREFEITURA MUNICIPAL DE TUCURUÍ
A9: SECRETARIA MUNICIPAL DE OBRAS, SERVIÇOS URBANOS E HABITAÇÃO
A11: ='ORÇAMENTO - CASA DE FORÇA'!A12:H12 -> CONSTRUÇÃO DE CASA DE FORÇA E FORNECIMENTO E INSTALAÇÃO DE BALIZAMENTO DO AEROPORTO REGIONAL DE TUCURUÍ
A13: CRONOGRAMA FÍSICO-FINANCEIRO
A16: ITEM | B16: PERÍODO DE EXECUÇÃO | D16: 1º Mês | H16: 2º Mês | L16: 3º Mês | P16: 4º Mês | T16: 5º Mês | X16: 6º Mês | AB16: % da Obra
B18: Mobilização
B21: DESCRIÇÃO DOS SERVIÇOS | C21: R$ | D21: Semanas | H21: Semanas | L21: Semanas | P21: Semanas | T21: Semanas | X21: Semanas
D22: 1ª | E22: 2ª | F22: 3ª | G22: 4ª | H22: 5ª | I22: 6ª | J22: 7ª | K22: 8ª | L22: 9ª | M22: 10ª | N22: 11ª | O22: 12ª | P22: 13ª | Q22: 14ª | R22: 15ª | S22: 16ª | T22: 17ª | U22: 18ª | V22: 19ª | W22: 20ª | X22: 17ª | Y22: 18ª | Z22: 19ª | AA22: 20ª
A23: 1 | B23: ='ORÇAMENTO - CASA DE FORÇA'!B19 -> SERVIÇOS PRELIMINARES | C23: ='ORÇAMENTO - CASA DE FORÇA'!H24 -> 5671.51 | D23: 1 | AB23: =C23/$C$77 -> 0.0051
D25: =C23*D23 -> 5671.51 | AC25: =SUM(D25:W25) -> 5671.51
A26: 2 | B26: ='ORÇAMENTO - CASA DE FORÇA'!B25 -> INFRAESTRUTURA E SUPERESTRUTURA | C26: ='ORÇAMENTO - CASA DE FORÇA'!H36 -> 47267.64 | D26: 0.35 | H26: 0.65 | AB26: =C26/$C$77 -> 0.0422
D28: =D26*$C$26 -> 16543.67 | H28: =H26*$C$26 -> 30723.97 | AC28: =SUM(D28:AA28) -> 47267.64
A29: 3 | B29: ='ORÇAMENTO - CASA DE FORÇA'!B37 -> VEDAÇÕES INTERNAS E EXTERNAS | C29: ='ORÇAMENTO - CASA DE FORÇA'!H40 -> 21841.12 | L29: 1 | AB29: =C29/$C$77 -> 0.0195
L31: =$C29*L29 -> 21841.12 | AC31: =SUM(D31:AA31) -> 21841.12
A32: 4 | B32: ='ORÇAMENTO - CASA DE FORÇA'!B41 -> COBERTURA | C32: ='ORÇAMENTO - CASA DE FORÇA'!H46 -> 28960.91 | L32: 0.1 | P32: 0.9 | AB32: =C32/$C$77 -> 0.0258
L34: =$C32*L32 -> 2896.09 | P34: =$C32*P32 -> 26064.82 | AC34: =SUM(D34:AA34) -> 28960.91
A35: 5 | B35: ='ORÇAMENTO - CASA DE FORÇA'!B47 -> INSTALAÇÕES ELÉTRICAS | C35: ='ORÇAMENTO - CASA DE FORÇA'!H82 -> 230455.92 | L35: 0.25 | P35: 0.4 | T35: 0.25 | X35: 0.1 | AB35: =C35/$C$77 -> 0.2057
L37: =$C35*L35 -> 57613.98 | P37: =$C35*P35 -> 92182.37 | T37: =$C35*T35 -> 57613.98 | X37: =$C35*X35 -> 23045.59 | AC37: =SUM(D37:AA37) -> 230455.92
A38: 6 | B38: ='ORÇAMENTO - CASA DE FORÇA'!B83 -> SISTEMA DE PROTEÇÃO CONTRA DESCARGAS ATMOSFÉRICAS (SPDA) | C38: ='ORÇAMENTO - CASA DE FORÇA'!H92 -> 5534.53 | P38: 1 | AB38: =C38/$C$77 -> 0.0049
P40: =$C38*P38 -> 5534.53 | AC40: =SUM(D40:AA40) -> 5534.53
A41: 7 | B41: ='ORÇAMENTO - CASA DE FORÇA'!B93 -> DRENAGEM | C41: ='ORÇAMENTO - CASA DE FORÇA'!H100 -> 10042.05 | D41: 0.25 | H41: 0.15 | L41: 0.15 | P41: 0.45 | AB41: =C41/$C$77 -> 0.009
D43: =$C41*D41 -> 2510.51 | H43: =$C41*H41 -> 1506.31 | L43: =$C41*L41 -> 1506.31 | P43: =$C41*P41 -> 4518.92 | AC43: =SUM(D43:AA43) -> 10042.05
A44: 8 | B44: ='ORÇAMENTO - CASA DE FORÇA'!B101 -> REVESTIMENTO DE PAREDES INTERNAS E EXTERNAS | C44: ='ORÇAMENTO - CASA DE FORÇA'!H105 -> 20604.97 | H44: 0.45 | L44: 0.3 | P44: 0.25 | AB44: =C44/$C$77 -> 0.0184
H46: =$C44*H44 -> 9272.24 | L46: =$C44*L44 -> 6181.49 | P46: =$C44*P44 -> 5151.24 | AC46: =SUM(D46:AA46) -> 20604.97
A47: 9 | B47: ='ORÇAMENTO - CASA DE FORÇA'!B106 -> PISOS | C47: ='ORÇAMENTO - CASA DE FORÇA'!H112 -> 42292.66 | L47: 0.24 | P47: 0.26 | T47: 0.24 | X47: 0.26 | AB47: =C47/$C$77 -> 0.0377
L49: =$C47*L47 -> 10150.24 | P49: =$C47*P47 -> 10996.09 | T49: =$C47*T47 -> 10150.24 | X49: =$C47*X47 -> 10996.09 | AC49: =SUM(D49:AA49) -> 42292.66
A50: 10 | B50: ='ORÇAMENTO - CASA DE FORÇA'!B113 -> ESQUADRIAS/PORTÕES E GRADES | C50: ='ORÇAMENTO - CASA DE FORÇA'!H119 -> 17088.13 | L50: 0.49 | P50: 0.51 | AB50: =C50/$C$77 -> 0.0153
L52: =$C50*L50 -> 8373.18 | P52: =$C50*P50 -> 8714.95 | AC52: =SUM(D52:AA52) -> 17088.13
A53: 11 | B53: ='ORÇAMENTO - CASA DE FORÇA'!B120 -> FORRO | C53: ='ORÇAMENTO - CASA DE FORÇA'!H123 -> 18457.99 | P53: 0.1 | T53: 0.9 | AB53: =C53/$C$77 -> 0.0165
P55: =$C53*P53 -> 1845.8 | T55: =$C53*T53 -> 16612.19 | X55: =$C53*X53 -> 0 | AC55: =SUM(D55:AA55) -> 18457.99
A56: 12 | B56: ='ORÇAMENTO - CASA DE FORÇA'!B124 -> GRANITO | C56: ='ORÇAMENTO - CASA DE FORÇA'!H126 -> 269.29 | P56: 1 | AB56: =C56/$C$77 -> 0.0002
P58: =$C56*P56 -> 269.29 | AC58: =SUM(D58:AA58) -> 269.29
A59: 13 | B59: ='ORÇAMENTO - CASA DE FORÇA'!B127 -> PINTURA | C59: ='ORÇAMENTO - CASA DE FORÇA'!H136 -> 22078.87 | L59: 0.28 | P59: 0.21 | T59: 0.19 | X59: 0.32 | AB59: =C59/$C$77 -> 0.0197
H61: =$C59*H59 -> 0 | L61: =$C59*L59 -> 6182.08 | P61: =$C59*P59 -> 4636.56 | T61: =$C59*T59 -> 4194.99 | X61: =$C59*X59 -> 7065.24 | AC61: =SUM(D61:AA61) -> 22078.87
A62: 14 | B62: ='ORÇAMENTO - CASA DE FORÇA'!B137 -> SERVIÇOS DIVERSOS | C62: ='ORÇAMENTO - CASA DE FORÇA'!H142 -> 7297.79 | X62: 1 | AB62: =C62/$C$77 -> 0.0065
X64: =$C62*X62 -> 7297.79 | AC64: =SUM(D64:AA64) -> 7297.79
A65: 15 | B65: ='ORÇAMENTO - CASA DE FORÇA'!B143 -> SISTEMA DE COMBATE A INCÊNDIO | C65: ='ORÇAMENTO - CASA DE FORÇA'!H147 -> 2075.75 | T65: 1 | AB65: =C65/$C$77 -> 0.0019
T67: =$C65*T65 -> 2075.75 | AC67: =SUM(D67:AA67) -> 2075.75
A68: 16 | B68: ='ORÇAMENTO - CASA DE FORÇA'!B148 -> SERVIÇOS COMPLEMENTARES | C68: ='ORÇAMENTO - CASA DE FORÇA'!H151 -> 3069.89 | X68: 1 | AB68: =C68/$C$77 -> 0.0027
...
